BEGIN:VCALENDAR
VERSION:2.0
PRODID:-//81.201.148.31//NONSGML kigkonsult.se iCalcreator 2.41.92//
CALSCALE:GREGORIAN
METHOD:PUBLISH
UID:37626539-3135-4535-b562-663361656435
X-WR-CALNAME:KOKOS IMPORT Theatertermine
X-WR-CALDESC:
X-WR-TIMEZONE:Europe/Berlin
BEGIN:VEVENT
UID:37343232-3762-4536-a465-356265376461
DTSTAMP:20260423T095211Z
DESCRIPTION:
DTSTART:20260522T120000
DTEND:20260522T130000
SUMMARY:Friedenswort & Orgelklang
END:VEVENT
END:VCALENDAR
