BEGIN:VCALENDAR
VERSION:2.0
PRODID:-//81.201.148.31//NONSGML kigkonsult.se iCalcreator 2.41.92//
CALSCALE:GREGORIAN
METHOD:PUBLISH
UID:34363135-6165-4164-a537-316162326137
X-WR-CALNAME:KOKOS IMPORT Theatertermine
X-WR-CALDESC:
X-WR-TIMEZONE:Europe/Berlin
BEGIN:VEVENT
UID:65636165-6236-4632-b534-306436366338
DTSTAMP:20260423T105657Z
DESCRIPTION:
DTSTART:20260605T120000
DTEND:20260605T130000
SUMMARY:Friedenswort & Orgelklang
END:VEVENT
END:VCALENDAR
