BEGIN:VCALENDAR
VERSION:2.0
PRODID:-//81.201.148.31//NONSGML kigkonsult.se iCalcreator 2.41.92//
CALSCALE:GREGORIAN
METHOD:PUBLISH
UID:35303135-3535-4465-a437-333430613762
X-WR-CALNAME:KOKOS IMPORT Theatertermine
X-WR-CALDESC:
X-WR-TIMEZONE:Europe/Berlin
BEGIN:VEVENT
UID:31653363-3338-4137-a363-616566346663
DTSTAMP:20260423T095249Z
DESCRIPTION:
DTSTART:20260612T120000
DTEND:20260612T130000
SUMMARY:Friedenswort & Orgelklang
END:VEVENT
END:VCALENDAR
