BEGIN:VCALENDAR
VERSION:2.0
PRODID:-//81.201.148.31//NONSGML kigkonsult.se iCalcreator 2.41.92//
CALSCALE:GREGORIAN
METHOD:PUBLISH
UID:30323730-3564-4838-b361-366534313031
X-WR-CALNAME:KOKOS IMPORT Theatertermine
X-WR-CALDESC:
X-WR-TIMEZONE:Europe/Berlin
BEGIN:VEVENT
UID:34653733-6535-4431-b930-346437383335
DTSTAMP:20260423T095337Z
DESCRIPTION:
DTSTART:20260619T120000
DTEND:20260619T130000
SUMMARY:Friedenswort & Orgelklang
END:VEVENT
END:VCALENDAR
