BEGIN:VCALENDAR
VERSION:2.0
PRODID:-//81.201.148.31//NONSGML kigkonsult.se iCalcreator 2.41.92//
CALSCALE:GREGORIAN
METHOD:PUBLISH
UID:39323137-6339-4333-b331-666239376333
X-WR-CALNAME:KOKOS IMPORT Theatertermine
X-WR-CALDESC:
X-WR-TIMEZONE:Europe/Berlin
BEGIN:VEVENT
UID:35316131-3430-4961-a261-656434303536
DTSTAMP:20260423T095211Z
DESCRIPTION:
DTSTART:20260626T120000
DTEND:20260626T130000
SUMMARY:Friedenswort & Orgelklang
END:VEVENT
END:VCALENDAR
