BEGIN:VCALENDAR
VERSION:2.0
PRODID:-//81.201.148.31//NONSGML kigkonsult.se iCalcreator 2.41.92//
CALSCALE:GREGORIAN
METHOD:PUBLISH
UID:39623565-3138-4661-b766-303032356333
X-WR-CALNAME:KOKOS IMPORT Theatertermine
X-WR-CALDESC:
X-WR-TIMEZONE:Europe/Berlin
BEGIN:VEVENT
UID:61336464-6465-4831-b266-386262313662
DTSTAMP:20260423T094303Z
DESCRIPTION:
DTSTART:20260703T120000
DTEND:20260703T130000
SUMMARY:Friedenswort & Orgelklang
END:VEVENT
END:VCALENDAR
