BEGIN:VCALENDAR
VERSION:2.0
PRODID:-//81.201.148.31//NONSGML kigkonsult.se iCalcreator 2.41.92//
CALSCALE:GREGORIAN
METHOD:PUBLISH
UID:61663237-6631-4238-a534-643134613933
X-WR-CALNAME:KOKOS IMPORT Theatertermine
X-WR-CALDESC:
X-WR-TIMEZONE:Europe/Berlin
BEGIN:VEVENT
UID:35666632-6164-4631-a633-303839316436
DTSTAMP:20260421T102201Z
DESCRIPTION:
DTSTART:20260710T120000
DTEND:20260710T130000
SUMMARY:Friedenswort & Orgelklang
END:VEVENT
END:VCALENDAR
