BEGIN:VCALENDAR
VERSION:2.0
PRODID:-//81.201.148.31//NONSGML kigkonsult.se iCalcreator 2.41.92//
CALSCALE:GREGORIAN
METHOD:PUBLISH
UID:31656361-3666-4763-a232-383663356639
X-WR-CALNAME:KOKOS IMPORT Theatertermine
X-WR-CALDESC:
X-WR-TIMEZONE:Europe/Berlin
BEGIN:VEVENT
UID:31336664-3563-4466-a462-653465326232
DTSTAMP:20260421T192824Z
DESCRIPTION:
DTSTART:20260717T120000
DTEND:20260717T130000
SUMMARY:Friedenswort & Orgelklang
END:VEVENT
END:VCALENDAR
