BEGIN:VCALENDAR
VERSION:2.0
PRODID:-//81.201.148.31//NONSGML kigkonsult.se iCalcreator 2.41.92//
CALSCALE:GREGORIAN
METHOD:PUBLISH
UID:35363864-6530-4161-b766-343666623561
X-WR-CALNAME:KOKOS IMPORT Theatertermine
X-WR-CALDESC:
X-WR-TIMEZONE:Europe/Berlin
BEGIN:VEVENT
UID:37663933-3434-4234-a261-366136363437
DTSTAMP:20260423T105657Z
DESCRIPTION:
DTSTART:20260911T120000
DTEND:20260911T130000
SUMMARY:Friedenswort & Orgelklang
END:VEVENT
END:VCALENDAR
