BEGIN:VCALENDAR
VERSION:2.0
PRODID:-//81.201.148.31//NONSGML kigkonsult.se iCalcreator 2.41.92//
CALSCALE:GREGORIAN
METHOD:PUBLISH
UID:30616535-6466-4031-b536-306461323839
X-WR-CALNAME:KOKOS IMPORT Theatertermine
X-WR-CALDESC:
X-WR-TIMEZONE:Europe/Berlin
BEGIN:VEVENT
UID:65386665-6337-4639-b232-303733653930
DTSTAMP:20260423T095332Z
DESCRIPTION:
DTSTART:20260918T120000
DTEND:20260918T130000
SUMMARY:Friedenswort & Orgelklang
END:VEVENT
END:VCALENDAR
