BEGIN:VCALENDAR
VERSION:2.0
PRODID:-//81.201.148.31//NONSGML kigkonsult.se iCalcreator 2.41.92//
CALSCALE:GREGORIAN
METHOD:PUBLISH
UID:32323635-3839-4633-b534-666432663239
X-WR-CALNAME:KOKOS IMPORT Theatertermine
X-WR-CALDESC:
X-WR-TIMEZONE:Europe/Berlin
BEGIN:VEVENT
UID:38616635-6164-4764-b264-623537333064
DTSTAMP:20260423T182718Z
DESCRIPTION:
DTSTART:20260227T180000
DTEND:20260227T190000
SUMMARY:Friedenswort & Orgelklang
END:VEVENT
END:VCALENDAR
