BEGIN:VCALENDAR
VERSION:2.0
PRODID:-//81.201.148.31//NONSGML kigkonsult.se iCalcreator 2.41.92//
CALSCALE:GREGORIAN
METHOD:PUBLISH
UID:35626361-6233-4130-b936-666465666466
X-WR-CALNAME:KOKOS IMPORT Theatertermine
X-WR-CALDESC:
X-WR-TIMEZONE:Europe/Berlin
BEGIN:VEVENT
UID:36353636-6337-4261-b264-306661623132
DTSTAMP:20260423T182423Z
DESCRIPTION:
DTSTART:20260306T180000
DTEND:20260306T190000
SUMMARY:Friedenswort & Orgelklang
END:VEVENT
END:VCALENDAR
