BEGIN:VCALENDAR
VERSION:2.0
PRODID:-//81.201.148.31//NONSGML kigkonsult.se iCalcreator 2.41.92//
CALSCALE:GREGORIAN
METHOD:PUBLISH
UID:39363963-6562-4538-b861-663166323337
X-WR-CALNAME:KOKOS IMPORT Theatertermine
X-WR-CALDESC:
X-WR-TIMEZONE:Europe/Berlin
BEGIN:VEVENT
UID:32663732-6431-4531-a232-313437366362
DTSTAMP:20260421T090805Z
DESCRIPTION:
DTSTART:20260320T180000
DTEND:20260320T190000
SUMMARY:Friedenswort & Orgelklang
END:VEVENT
END:VCALENDAR
