BEGIN:VCALENDAR
VERSION:2.0
PRODID:-//81.201.148.31//NONSGML kigkonsult.se iCalcreator 2.41.92//
CALSCALE:GREGORIAN
METHOD:PUBLISH
UID:34646163-3062-4761-b633-656463313337
X-WR-CALNAME:KOKOS IMPORT Theatertermine
X-WR-CALDESC:
X-WR-TIMEZONE:Europe/Berlin
BEGIN:VEVENT
UID:66613137-6365-4266-a534-326566313632
DTSTAMP:20260420T125837Z
DESCRIPTION:
DTSTART:20260327T180000
DTEND:20260327T190000
SUMMARY:Friedenswort & Orgelklang
END:VEVENT
END:VCALENDAR
