BEGIN:VCALENDAR
VERSION:2.0
PRODID:-//81.201.148.31//NONSGML kigkonsult.se iCalcreator 2.41.92//
CALSCALE:GREGORIAN
METHOD:PUBLISH
UID:38343935-3434-4263-b965-333565336266
X-WR-CALNAME:KOKOS IMPORT Theatertermine
X-WR-CALDESC:
X-WR-TIMEZONE:Europe/Berlin
BEGIN:VEVENT
UID:61636365-3264-4161-b032-346130303637
DTSTAMP:20260423T084802Z
DESCRIPTION:
DTSTART:20260410T180000
DTEND:20260410T190000
SUMMARY:Friedenswort & Orgelklang
END:VEVENT
END:VCALENDAR
