BEGIN:VCALENDAR
VERSION:2.0
PRODID:-//81.201.148.31//NONSGML kigkonsult.se iCalcreator 2.41.92//
CALSCALE:GREGORIAN
METHOD:PUBLISH
UID:35623366-3332-4236-a238-626664376234
X-WR-CALNAME:KOKOS IMPORT Theatertermine
X-WR-CALDESC:
X-WR-TIMEZONE:Europe/Berlin
BEGIN:VEVENT
UID:66343736-6466-4162-b535-353437663933
DTSTAMP:20260421T224446Z
DESCRIPTION:
DTSTART:20260417T180000
DTEND:20260417T190000
SUMMARY:Friedenswort & Orgelklang
END:VEVENT
END:VCALENDAR
