BEGIN:VCALENDAR
VERSION:2.0
PRODID:-//81.201.148.31//NONSGML kigkonsult.se iCalcreator 2.41.92//
CALSCALE:GREGORIAN
METHOD:PUBLISH
UID:30313539-3531-4232-b861-326264323338
X-WR-CALNAME:KOKOS IMPORT Theatertermine
X-WR-CALDESC:
X-WR-TIMEZONE:Europe/Berlin
BEGIN:VEVENT
UID:64616666-3463-4533-b436-396330666537
DTSTAMP:20260420T061122Z
DESCRIPTION:
DTSTART:20260501T180000
DTEND:20260501T190000
SUMMARY:Friedenswort & Orgelklang
END:VEVENT
END:VCALENDAR
