BEGIN:VCALENDAR
VERSION:2.0
PRODID:-//81.201.148.31//NONSGML kigkonsult.se iCalcreator 2.41.92//
CALSCALE:GREGORIAN
METHOD:PUBLISH
UID:32373837-6263-4664-b566-646161666633
X-WR-CALNAME:KOKOS IMPORT Theatertermine
X-WR-CALDESC:
X-WR-TIMEZONE:Europe/Berlin
BEGIN:VEVENT
UID:30376438-3336-4339-b936-643531386139
DTSTAMP:20260420T153643Z
DESCRIPTION:
DTSTART:20260508T180000
DTEND:20260508T190000
SUMMARY:Friedenswort & Orgelklang
END:VEVENT
END:VCALENDAR
