BEGIN:VCALENDAR
VERSION:2.0
PRODID:-//81.201.148.31//NONSGML kigkonsult.se iCalcreator 2.41.92//
CALSCALE:GREGORIAN
METHOD:PUBLISH
UID:64303063-3432-4130-b737-373638636636
X-WR-CALNAME:KOKOS IMPORT Theatertermine
X-WR-CALDESC:
X-WR-TIMEZONE:Europe/Berlin
BEGIN:VEVENT
UID:35643934-6666-4530-b530-636432333732
DTSTAMP:20260421T034445Z
DESCRIPTION:
DTSTART:20260515T180000
DTEND:20260515T190000
SUMMARY:Friedenswort & Orgelklang
END:VEVENT
END:VCALENDAR
