BEGIN:VCALENDAR
VERSION:2.0
PRODID:-//81.201.148.31//NONSGML kigkonsult.se iCalcreator 2.41.92//
CALSCALE:GREGORIAN
METHOD:PUBLISH
UID:33336231-6634-4465-a334-633033376564
X-WR-CALNAME:KOKOS IMPORT Theatertermine
X-WR-CALDESC:
X-WR-TIMEZONE:Europe/Berlin
BEGIN:VEVENT
UID:61646439-6166-4464-b135-303737353630
DTSTAMP:20260423T095331Z
DESCRIPTION:
DTSTART:20260522T180000
DTEND:20260522T190000
SUMMARY:Friedenswort & Orgelklang
END:VEVENT
END:VCALENDAR
