BEGIN:VCALENDAR
VERSION:2.0
PRODID:-//81.201.148.31//NONSGML kigkonsult.se iCalcreator 2.41.92//
CALSCALE:GREGORIAN
METHOD:PUBLISH
UID:62333461-6363-4733-b861-306461313135
X-WR-CALNAME:KOKOS IMPORT Theatertermine
X-WR-CALDESC:
X-WR-TIMEZONE:Europe/Berlin
BEGIN:VEVENT
UID:39303736-3337-4465-a366-306135663461
DTSTAMP:20260423T105737Z
DESCRIPTION:
DTSTART:20260529T180000
DTEND:20260529T190000
SUMMARY:Friedenswort & Orgelklang
END:VEVENT
END:VCALENDAR
