BEGIN:VCALENDAR
VERSION:2.0
PRODID:-//81.201.148.31//NONSGML kigkonsult.se iCalcreator 2.41.92//
CALSCALE:GREGORIAN
METHOD:PUBLISH
UID:38373939-6261-4363-b139-303739393465
X-WR-CALNAME:KOKOS IMPORT Theatertermine
X-WR-CALDESC:
X-WR-TIMEZONE:Europe/Berlin
BEGIN:VEVENT
UID:30646532-3030-4866-b865-636339326430
DTSTAMP:20260423T095352Z
DESCRIPTION:
DTSTART:20260605T180000
DTEND:20260605T190000
SUMMARY:Friedenswort & Orgelklang
END:VEVENT
END:VCALENDAR
