BEGIN:VCALENDAR
VERSION:2.0
PRODID:-//81.201.148.31//NONSGML kigkonsult.se iCalcreator 2.41.92//
CALSCALE:GREGORIAN
METHOD:PUBLISH
UID:65353535-3063-4861-a339-313366346661
X-WR-CALNAME:KOKOS IMPORT Theatertermine
X-WR-CALDESC:
X-WR-TIMEZONE:Europe/Berlin
BEGIN:VEVENT
UID:66306436-3466-4336-b033-366631306432
DTSTAMP:20260423T095353Z
DESCRIPTION:
DTSTART:20260612T180000
DTEND:20260612T190000
SUMMARY:Friedenswort & Orgelklang
END:VEVENT
END:VCALENDAR
