BEGIN:VCALENDAR
VERSION:2.0
PRODID:-//81.201.148.31//NONSGML kigkonsult.se iCalcreator 2.41.92//
CALSCALE:GREGORIAN
METHOD:PUBLISH
UID:63336339-3538-4966-a433-656637346436
X-WR-CALNAME:KOKOS IMPORT Theatertermine
X-WR-CALDESC:
X-WR-TIMEZONE:Europe/Berlin
BEGIN:VEVENT
UID:66666261-3966-4136-a566-363736383465
DTSTAMP:20260423T095336Z
DESCRIPTION:
DTSTART:20260619T180000
DTEND:20260619T190000
SUMMARY:Friedenswort & Orgelklang
END:VEVENT
END:VCALENDAR
