BEGIN:VCALENDAR
VERSION:2.0
PRODID:-//81.201.148.31//NONSGML kigkonsult.se iCalcreator 2.41.92//
CALSCALE:GREGORIAN
METHOD:PUBLISH
UID:31643337-3931-4235-a536-303935353735
X-WR-CALNAME:KOKOS IMPORT Theatertermine
X-WR-CALDESC:
X-WR-TIMEZONE:Europe/Berlin
BEGIN:VEVENT
UID:33663030-3462-4036-b331-613039383637
DTSTAMP:20260423T095336Z
DESCRIPTION:
DTSTART:20260626T180000
DTEND:20260626T190000
SUMMARY:Friedenswort & Orgelklang
END:VEVENT
END:VCALENDAR
