BEGIN:VCALENDAR
VERSION:2.0
PRODID:-//81.201.148.31//NONSGML kigkonsult.se iCalcreator 2.41.92//
CALSCALE:GREGORIAN
METHOD:PUBLISH
UID:30336131-3436-4437-b864-383530376339
X-WR-CALNAME:KOKOS IMPORT Theatertermine
X-WR-CALDESC:
X-WR-TIMEZONE:Europe/Berlin
BEGIN:VEVENT
UID:64623231-6434-4232-a531-393830663561
DTSTAMP:20260423T094304Z
DESCRIPTION:
DTSTART:20260703T180000
DTEND:20260703T190000
SUMMARY:Friedenswort & Orgelklang
END:VEVENT
END:VCALENDAR
