BEGIN:VCALENDAR
VERSION:2.0
PRODID:-//81.201.148.31//NONSGML kigkonsult.se iCalcreator 2.41.92//
CALSCALE:GREGORIAN
METHOD:PUBLISH
UID:36666264-3766-4361-b233-393734363734
X-WR-CALNAME:KOKOS IMPORT Theatertermine
X-WR-CALDESC:
X-WR-TIMEZONE:Europe/Berlin
BEGIN:VEVENT
UID:39656134-6364-4133-a231-613630323766
DTSTAMP:20260421T103047Z
DESCRIPTION:
DTSTART:20260710T180000
DTEND:20260710T190000
SUMMARY:Friedenswort & Orgelklang
END:VEVENT
END:VCALENDAR
