BEGIN:VCALENDAR
VERSION:2.0
PRODID:-//81.201.148.31//NONSGML kigkonsult.se iCalcreator 2.41.92//
CALSCALE:GREGORIAN
METHOD:PUBLISH
UID:31633434-3832-4234-b837-376236653939
X-WR-CALNAME:KOKOS IMPORT Theatertermine
X-WR-CALDESC:
X-WR-TIMEZONE:Europe/Berlin
BEGIN:VEVENT
UID:30613737-3734-4764-b737-333466323366
DTSTAMP:20260421T211610Z
DESCRIPTION:
DTSTART:20260717T180000
DTEND:20260717T190000
SUMMARY:Friedenswort & Orgelklang
END:VEVENT
END:VCALENDAR
