BEGIN:VCALENDAR
VERSION:2.0
PRODID:-//81.201.148.31//NONSGML kigkonsult.se iCalcreator 2.41.92//
CALSCALE:GREGORIAN
METHOD:PUBLISH
UID:31653332-3730-4366-b637-626665623335
X-WR-CALNAME:KOKOS IMPORT Theatertermine
X-WR-CALDESC:
X-WR-TIMEZONE:Europe/Berlin
BEGIN:VEVENT
UID:31333765-6337-4561-b364-636538643663
DTSTAMP:20260423T105743Z
DESCRIPTION:
DTSTART:20260911T180000
DTEND:20260911T190000
SUMMARY:Friedenswort & Orgelklang
END:VEVENT
END:VCALENDAR
