BEGIN:VCALENDAR
VERSION:2.0
PRODID:-//81.201.148.31//NONSGML kigkonsult.se iCalcreator 2.41.92//
CALSCALE:GREGORIAN
METHOD:PUBLISH
UID:33633265-6438-4164-b433-643336366563
X-WR-CALNAME:KOKOS IMPORT Theatertermine
X-WR-CALDESC:
X-WR-TIMEZONE:Europe/Berlin
BEGIN:VEVENT
UID:36643161-3164-4633-b161-376265323235
DTSTAMP:20260423T095337Z
DESCRIPTION:
DTSTART:20260918T180000
DTEND:20260918T190000
SUMMARY:Friedenswort & Orgelklang
END:VEVENT
END:VCALENDAR
