BEGIN:VCALENDAR
VERSION:2.0
PRODID:-//81.201.148.31//NONSGML kigkonsult.se iCalcreator 2.41.92//
CALSCALE:GREGORIAN
METHOD:PUBLISH
UID:34393162-6466-4066-a665-343633353639
X-WR-CALNAME:KOKOS IMPORT Theatertermine
X-WR-CALDESC:
X-WR-TIMEZONE:Europe/Berlin
BEGIN:VEVENT
UID:33393732-6465-4436-a531-363839323132
DTSTAMP:20260421T060318Z
DESCRIPTION:
DTSTART:20260611T200000
DTEND:20260611T220000
SUMMARY:GIUSEPPE VERDI: MESSA DA REQUIEM
END:VEVENT
END:VCALENDAR
