BEGIN:VCALENDAR
VERSION:2.0
PRODID:-//81.201.148.31//NONSGML kigkonsult.se iCalcreator 2.41.92//
CALSCALE:GREGORIAN
METHOD:PUBLISH
UID:36366637-6635-4333-a534-363930363638
X-WR-CALNAME:KOKOS IMPORT Theatertermine
X-WR-CALDESC:
X-WR-TIMEZONE:Europe/Berlin
BEGIN:VEVENT
UID:32643039-3832-4531-b130-353861303564
DTSTAMP:20260423T094621Z
DESCRIPTION:
DTSTART:20260111T110000
DTEND:20260111T123000
SUMMARY:Gottesdienst
END:VEVENT
END:VCALENDAR
