BEGIN:VCALENDAR
VERSION:2.0
PRODID:-//81.201.148.31//NONSGML kigkonsult.se iCalcreator 2.41.92//
CALSCALE:GREGORIAN
METHOD:PUBLISH
UID:64623733-3465-4962-a535-326630363633
X-WR-CALNAME:KOKOS IMPORT Theatertermine
X-WR-CALDESC:
X-WR-TIMEZONE:Europe/Berlin
BEGIN:VEVENT
UID:61316465-3935-4963-b161-633631303164
DTSTAMP:20260423T093821Z
DESCRIPTION:
DTSTART:20260118T110000
DTEND:20260118T130000
SUMMARY:Gottesdienst
END:VEVENT
END:VCALENDAR
