BEGIN:VCALENDAR
VERSION:2.0
PRODID:-//81.201.148.31//NONSGML kigkonsult.se iCalcreator 2.41.92//
CALSCALE:GREGORIAN
METHOD:PUBLISH
UID:37623339-3537-4137-a631-336165333237
X-WR-CALNAME:KOKOS IMPORT Theatertermine
X-WR-CALDESC:
X-WR-TIMEZONE:Europe/Berlin
BEGIN:VEVENT
UID:38653565-6230-4266-a162-316134326261
DTSTAMP:20260423T093847Z
DESCRIPTION:
DTSTART:20260301T110000
DTEND:20260301T123000
SUMMARY:Gottesdienst
END:VEVENT
END:VCALENDAR
