BEGIN:VCALENDAR
VERSION:2.0
PRODID:-//81.201.148.31//NONSGML kigkonsult.se iCalcreator 2.41.92//
CALSCALE:GREGORIAN
METHOD:PUBLISH
UID:65343963-6430-4662-b064-663265666430
X-WR-CALNAME:KOKOS IMPORT Theatertermine
X-WR-CALDESC:
X-WR-TIMEZONE:Europe/Berlin
BEGIN:VEVENT
UID:33623731-3962-4334-b130-353736373938
DTSTAMP:20260419T215306Z
DESCRIPTION:
DTSTART:20260308T110000
DTEND:20260308T123000
SUMMARY:Gottesdienst
END:VEVENT
END:VCALENDAR
