BEGIN:VCALENDAR
VERSION:2.0
PRODID:-//81.201.148.31//NONSGML kigkonsult.se iCalcreator 2.41.92//
CALSCALE:GREGORIAN
METHOD:PUBLISH
UID:62653835-3834-4231-a562-346161623539
X-WR-CALNAME:KOKOS IMPORT Theatertermine
X-WR-CALDESC:
X-WR-TIMEZONE:Europe/Berlin
BEGIN:VEVENT
UID:61333434-6365-4134-b132-616362316230
DTSTAMP:20260420T194400Z
DESCRIPTION:
DTSTART:20260329T110000
DTEND:20260329T123000
SUMMARY:Gottesdienst
END:VEVENT
END:VCALENDAR
