BEGIN:VCALENDAR
VERSION:2.0
PRODID:-//81.201.148.31//NONSGML kigkonsult.se iCalcreator 2.41.92//
CALSCALE:GREGORIAN
METHOD:PUBLISH
UID:66356465-3663-4963-a137-386538386561
X-WR-CALNAME:KOKOS IMPORT Theatertermine
X-WR-CALDESC:
X-WR-TIMEZONE:Europe/Berlin
BEGIN:VEVENT
UID:66356536-3863-4134-a439-376165303937
DTSTAMP:20260421T095220Z
DESCRIPTION:
DTSTART:20260412T110000
DTEND:20260412T123000
SUMMARY:Gottesdienst
END:VEVENT
END:VCALENDAR
