BEGIN:VCALENDAR
VERSION:2.0
PRODID:-//81.201.148.31//NONSGML kigkonsult.se iCalcreator 2.41.92//
CALSCALE:GREGORIAN
METHOD:PUBLISH
UID:34646634-6437-4535-b561-353535386433
X-WR-CALNAME:KOKOS IMPORT Theatertermine
X-WR-CALDESC:
X-WR-TIMEZONE:Europe/Berlin
BEGIN:VEVENT
UID:63376435-3230-4435-b237-636461353466
DTSTAMP:20260423T093826Z
DESCRIPTION:
DTSTART:20260517T110000
DTEND:20260517T123000
SUMMARY:Gottesdienst
END:VEVENT
END:VCALENDAR
