BEGIN:VCALENDAR
VERSION:2.0
PRODID:-//81.201.148.31//NONSGML kigkonsult.se iCalcreator 2.41.92//
CALSCALE:GREGORIAN
METHOD:PUBLISH
UID:38303232-3730-4963-b965-613138646136
X-WR-CALNAME:KOKOS IMPORT Theatertermine
X-WR-CALDESC:
X-WR-TIMEZONE:Europe/Berlin
BEGIN:VEVENT
UID:65616337-6466-4561-b466-633733653839
DTSTAMP:20260423T105031Z
DESCRIPTION:
DTSTART:20260531T110000
DTEND:20260531T123000
SUMMARY:Gottesdienst
END:VEVENT
END:VCALENDAR
