BEGIN:VCALENDAR
VERSION:2.0
PRODID:-//81.201.148.31//NONSGML kigkonsult.se iCalcreator 2.41.92//
CALSCALE:GREGORIAN
METHOD:PUBLISH
UID:64666661-3733-4535-b864-336566333936
X-WR-CALNAME:KOKOS IMPORT Theatertermine
X-WR-CALDESC:
X-WR-TIMEZONE:Europe/Berlin
BEGIN:VEVENT
UID:63313839-6566-4330-b562-303065366334
DTSTAMP:20260423T180314Z
DESCRIPTION:
DTSTART:20260607T110000
DTEND:20260607T123000
SUMMARY:Gottesdienst
END:VEVENT
END:VCALENDAR
