BEGIN:VCALENDAR
VERSION:2.0
PRODID:-//81.201.148.31//NONSGML kigkonsult.se iCalcreator 2.41.92//
CALSCALE:GREGORIAN
METHOD:PUBLISH
UID:64643331-3966-4330-b866-646335376231
X-WR-CALNAME:KOKOS IMPORT Theatertermine
X-WR-CALDESC:
X-WR-TIMEZONE:Europe/Berlin
BEGIN:VEVENT
UID:36316135-3130-4035-b966-646235316338
DTSTAMP:20260423T093822Z
DESCRIPTION:
DTSTART:20260614T110000
DTEND:20260614T123000
SUMMARY:Gottesdienst
END:VEVENT
END:VCALENDAR
