BEGIN:VCALENDAR
VERSION:2.0
PRODID:-//81.201.148.31//NONSGML kigkonsult.se iCalcreator 2.41.92//
CALSCALE:GREGORIAN
METHOD:PUBLISH
UID:65376437-3032-4162-b437-653336386135
X-WR-CALNAME:KOKOS IMPORT Theatertermine
X-WR-CALDESC:
X-WR-TIMEZONE:Europe/Berlin
BEGIN:VEVENT
UID:33613733-3139-4564-b366-376531363336
DTSTAMP:20260423T093908Z
DESCRIPTION:
DTSTART:20260621T110000
DTEND:20260621T130000
SUMMARY:Gottesdienst
END:VEVENT
END:VCALENDAR
