BEGIN:VCALENDAR
VERSION:2.0
PRODID:-//81.201.148.31//NONSGML kigkonsult.se iCalcreator 2.41.92//
CALSCALE:GREGORIAN
METHOD:PUBLISH
UID:39313336-3862-4466-b661-633364343130
X-WR-CALNAME:KOKOS IMPORT Theatertermine
X-WR-CALDESC:
X-WR-TIMEZONE:Europe/Berlin
BEGIN:VEVENT
UID:31383732-3138-4532-b939-386638656439
DTSTAMP:20260423T104824Z
DESCRIPTION:
DTSTART:20260705T110000
DTEND:20260705T123000
SUMMARY:Gottesdienst
END:VEVENT
END:VCALENDAR
