BEGIN:VCALENDAR
VERSION:2.0
PRODID:-//81.201.148.31//NONSGML kigkonsult.se iCalcreator 2.41.92//
CALSCALE:GREGORIAN
METHOD:PUBLISH
UID:38356138-3861-4235-b464-633831383636
X-WR-CALNAME:KOKOS IMPORT Theatertermine
X-WR-CALDESC:
X-WR-TIMEZONE:Europe/Berlin
BEGIN:VEVENT
UID:65333531-3265-4330-b832-393138353664
DTSTAMP:20260421T115252Z
DESCRIPTION:
DTSTART:20260712T110000
DTEND:20260712T123000
SUMMARY:Gottesdienst
END:VEVENT
END:VCALENDAR
