BEGIN:VCALENDAR
VERSION:2.0
PRODID:-//81.201.148.31//NONSGML kigkonsult.se iCalcreator 2.41.92//
CALSCALE:GREGORIAN
METHOD:PUBLISH
UID:61333830-6264-4139-b761-356463636238
X-WR-CALNAME:KOKOS IMPORT Theatertermine
X-WR-CALDESC:
X-WR-TIMEZONE:Europe/Berlin
BEGIN:VEVENT
UID:31333664-6538-4866-b962-336263306334
DTSTAMP:20260423T104916Z
DESCRIPTION:
DTSTART:20260906T110000
DTEND:20260906T123000
SUMMARY:Gottesdienst
END:VEVENT
END:VCALENDAR
