BEGIN:VCALENDAR
VERSION:2.0
PRODID:-//81.201.148.31//NONSGML kigkonsult.se iCalcreator 2.41.92//
CALSCALE:GREGORIAN
METHOD:PUBLISH
UID:61646335-6533-4366-b731-636431333737
X-WR-CALNAME:KOKOS IMPORT Theatertermine
X-WR-CALDESC:
X-WR-TIMEZONE:Europe/Berlin
BEGIN:VEVENT
UID:61613162-3838-4662-b436-623464656166
DTSTAMP:20260423T093702Z
DESCRIPTION:
DTSTART:20260913T110000
DTEND:20260913T123000
SUMMARY:Gottesdienst
END:VEVENT
END:VCALENDAR
