BEGIN:VCALENDAR
VERSION:2.0
PRODID:-//81.201.148.31//NONSGML kigkonsult.se iCalcreator 2.41.92//
CALSCALE:GREGORIAN
METHOD:PUBLISH
UID:65623562-3430-4362-b061-376639623932
X-WR-CALNAME:KOKOS IMPORT Theatertermine
X-WR-CALDESC:
X-WR-TIMEZONE:Europe/Berlin
BEGIN:VEVENT
UID:36326165-3835-4763-a539-633435653535
DTSTAMP:20260423T093739Z
DESCRIPTION:
DTSTART:20260920T110000
DTEND:20260920T130000
SUMMARY:Gottesdienst
END:VEVENT
END:VCALENDAR
