BEGIN:VCALENDAR
VERSION:2.0
PRODID:-//81.201.148.31//NONSGML kigkonsult.se iCalcreator 2.41.92//
CALSCALE:GREGORIAN
METHOD:PUBLISH
UID:61376635-6237-4362-b965-323363366163
X-WR-CALNAME:KOKOS IMPORT Theatertermine
X-WR-CALDESC:
X-WR-TIMEZONE:Europe/Berlin
BEGIN:VEVENT
UID:66333364-3066-4364-b938-636563376330
DTSTAMP:20260423T093820Z
DESCRIPTION:
DTSTART:20260222T180000
DTEND:20260222T190000
SUMMARY:Gottesdienst
END:VEVENT
END:VCALENDAR
