BEGIN:VCALENDAR
VERSION:2.0
PRODID:-//81.201.148.31//NONSGML kigkonsult.se iCalcreator 2.41.92//
CALSCALE:GREGORIAN
METHOD:PUBLISH
UID:36383936-6465-4136-b263-383735336237
X-WR-CALNAME:KOKOS IMPORT Theatertermine
X-WR-CALDESC:
X-WR-TIMEZONE:Europe/Berlin
BEGIN:VEVENT
UID:61393730-3936-4231-a337-316635303538
DTSTAMP:20260420T070635Z
DESCRIPTION:
DTSTART:20260308T180000
DTEND:20260308T190000
SUMMARY:Gottesdienst
END:VEVENT
END:VCALENDAR
