BEGIN:VCALENDAR
VERSION:2.0
PRODID:-//81.201.148.31//NONSGML kigkonsult.se iCalcreator 2.41.92//
CALSCALE:GREGORIAN
METHOD:PUBLISH
UID:34636130-6163-4166-a236-383835333365
X-WR-CALNAME:KOKOS IMPORT Theatertermine
X-WR-CALDESC:
X-WR-TIMEZONE:Europe/Berlin
BEGIN:VEVENT
UID:33343738-6231-4037-b335-366138653537
DTSTAMP:20260421T094747Z
DESCRIPTION:
DTSTART:20260412T180000
DTEND:20260412T190000
SUMMARY:Gottesdienst
END:VEVENT
END:VCALENDAR
